BEGIN:VCALENDAR
VERSION:2.0
PRODID:-//Home-Office - Teamwork - mobil Arbeiten - ECPv6.15.20//NONSGML v1.0//EN
CALSCALE:GREGORIAN
METHOD:PUBLISH
X-WR-CALNAME:Home-Office - Teamwork - mobil Arbeiten
X-ORIGINAL-URL:https://it-service-giessen.de
X-WR-CALDESC:Veranstaltungen für Home-Office - Teamwork - mobil Arbeiten
REFRESH-INTERVAL;VALUE=DURATION:PT1H
X-Robots-Tag:noindex
X-PUBLISHED-TTL:PT1H
BEGIN:VTIMEZONE
TZID:Europe/Berlin
BEGIN:DAYLIGHT
TZOFFSETFROM:+0100
TZOFFSETTO:+0200
TZNAME:CEST
DTSTART:20240331T010000
END:DAYLIGHT
BEGIN:STANDARD
TZOFFSETFROM:+0200
TZOFFSETTO:+0100
TZNAME:CET
DTSTART:20241027T010000
END:STANDARD
BEGIN:DAYLIGHT
TZOFFSETFROM:+0100
TZOFFSETTO:+0200
TZNAME:CEST
DTSTART:20250330T010000
END:DAYLIGHT
BEGIN:STANDARD
TZOFFSETFROM:+0200
TZOFFSETTO:+0100
TZNAME:CET
DTSTART:20251026T010000
END:STANDARD
BEGIN:DAYLIGHT
TZOFFSETFROM:+0100
TZOFFSETTO:+0200
TZNAME:CEST
DTSTART:20260329T010000
END:DAYLIGHT
BEGIN:STANDARD
TZOFFSETFROM:+0200
TZOFFSETTO:+0100
TZNAME:CET
DTSTART:20261025T010000
END:STANDARD
END:VTIMEZONE
BEGIN:VEVENT
DTSTART;TZID=Europe/Berlin:20250705T100000
DTEND;TZID=Europe/Berlin:20250706T170000
DTSTAMP:20260420T071002
CREATED:20221002T100453Z
LAST-MODIFIED:20250518T115906Z
UID:314-1751709600-1751821200@it-service-giessen.de
SUMMARY:Pivot-Analysen mit Excel - Formelfreie Datenauswertung
DESCRIPTION:Sie haben öfter mit langen Datenlisten zu tun\, für die Sie „mal eben schnell“ eine Auswertung brauchen? Damit dies auch wirklich „mal eben schnell“ geht\, stellt Ihnen Excel das Pivot-Tool zur Verfügung. Mit dessen Hilfe können Sie mit wenigen Mausaktionen stark verdichtete und deshalb aussagekräftige Auswertungstabellen oder Diagramme erstellen\, die eine Frage auf den ersten Blick beantworten. \nIn diesem Kurs haben Sie viel Gelegenheit für Übungen und praktisches Anwenden. Ziel des Kurses ist\, dass Sie anschließend über folgende Fähigkeiten verfügen: \n\nErkennen\, welche Daten sich für Pivot-Analysen eignen\nDatensammlungen schnell zu Pivot-tauglichen Rohdaten umformen\nZusammenhang zwischen Rohdaten und Pivot-Auswertungen verstehen\nAus Rohdaten schnell eine Pivot-Analyse erstellen (Reporting)\nVorhandene Pivot-Analysen schnell an geänderte Fragestellungen anpassen\nWissen\, was zu tun ist\, wenn sich Rohdaten im Nachhinein ändern\nPivot-Analysen auch aus mehreren Rohdaten-Listen aufbauen\nExterne Daten in Pivot-Analysen einbeziehen\n\nWelche Voraussetzungen benötige ich für diesen Kurs?\nIn diesem Kurs sind Sie richtig\, wenn Sie über gefestigte Grundkenntnisse in Excel verfügen. Sie sollten schon die ein oder andere Formel selbst entwickelt und auch schon einmal eine Liste sortiert und gefiltert haben. \nHier können Sie sich zu diesem Kurs anmelden:\nHier klicken
URL:https://it-service-giessen.de/event/pivot-analysen-mit-excel/
LOCATION:Online-Workshop
END:VEVENT
END:VCALENDAR