BEGIN:VCALENDAR
VERSION:2.0
PRODID:-//Home-Office - Teamwork - mobil Arbeiten - ECPv6.15.20//NONSGML v1.0//EN
CALSCALE:GREGORIAN
METHOD:PUBLISH
X-WR-CALNAME:Home-Office - Teamwork - mobil Arbeiten
X-ORIGINAL-URL:https://it-service-giessen.de
X-WR-CALDESC:Veranstaltungen für Home-Office - Teamwork - mobil Arbeiten
REFRESH-INTERVAL;VALUE=DURATION:PT1H
X-Robots-Tag:noindex
X-PUBLISHED-TTL:PT1H
BEGIN:VTIMEZONE
TZID:Europe/Berlin
BEGIN:DAYLIGHT
TZOFFSETFROM:+0100
TZOFFSETTO:+0200
TZNAME:CEST
DTSTART:20230326T010000
END:DAYLIGHT
BEGIN:STANDARD
TZOFFSETFROM:+0200
TZOFFSETTO:+0100
TZNAME:CET
DTSTART:20231029T010000
END:STANDARD
BEGIN:DAYLIGHT
TZOFFSETFROM:+0100
TZOFFSETTO:+0200
TZNAME:CEST
DTSTART:20240331T010000
END:DAYLIGHT
BEGIN:STANDARD
TZOFFSETFROM:+0200
TZOFFSETTO:+0100
TZNAME:CET
DTSTART:20241027T010000
END:STANDARD
BEGIN:DAYLIGHT
TZOFFSETFROM:+0100
TZOFFSETTO:+0200
TZNAME:CEST
DTSTART:20250330T010000
END:DAYLIGHT
BEGIN:STANDARD
TZOFFSETFROM:+0200
TZOFFSETTO:+0100
TZNAME:CET
DTSTART:20251026T010000
END:STANDARD
END:VTIMEZONE
BEGIN:VEVENT
DTSTART;TZID=Europe/Berlin:20241216T083000
DTEND;TZID=Europe/Berlin:20241220T160000
DTSTAMP:20260421T063539
CREATED:20230830T113648Z
LAST-MODIFIED:20241213T094958Z
UID:268-1734337800-1734710400@it-service-giessen.de
SUMMARY:Word 2019 und Excel 2019 Einführung - Präsenzkurs
DESCRIPTION:Sie wollen Textverarbeitung und Tabellenkalkulation von Grund auf erlernen? Dann ist dieser Kurs für Sie gemacht. \nIn Word erarbeiten wir uns die Eingabe und Überarbeitung von Texten\, die Gestaltung (Formatierung) von Dokumenten und den zeitsparenden Einsatz von Vorlagen. \nDas Excel-Programm nutzen wir zur Erstellung und Aktualisierung von Tabellen und Listen sowie für deren Berechnung und Auswertung (numerisch wie grafisch). Der Einsatz von Formeln wird intensiv geübt. \nIn beiden Programmen geht es auch um das Handling von Dokumenten\, um deren gute Darstellung am Bildschirm und um überzeugende Ausdrucke davon. Es steht reichlich Zeit für Übungen und Fragen zur Verfügung. \nDiesen Kurs können Sie auch als Bildungsurlaub buchen! \nInteressiert? Dann folgen Sie diesem Link \n 
URL:https://it-service-giessen.de/event/word-und-excel-einfuehrung-praesenzkurs/
LOCATION:Volkshochschule Landkreis Gießen\, Kreuzweg 33\, Lich\, Hessen\, 35423\, Deutschland
END:VEVENT
END:VCALENDAR